BEGIN:VCALENDAR
VERSION:2.0
PRODID:-//Austin Meditation Group of Self-Realization Fellowship - ECPv6.15.15//NONSGML v1.0//EN
CALSCALE:GREGORIAN
METHOD:PUBLISH
X-ORIGINAL-URL:https://srfaustin.org
X-WR-CALDESC:Events for Austin Meditation Group of Self-Realization Fellowship
REFRESH-INTERVAL;VALUE=DURATION:PT1H
X-Robots-Tag:noindex
X-PUBLISHED-TTL:PT1H
BEGIN:VTIMEZONE
TZID:America/Chicago
BEGIN:DAYLIGHT
TZOFFSETFROM:-0600
TZOFFSETTO:-0500
TZNAME:CDT
DTSTART:20230312T080000
END:DAYLIGHT
BEGIN:STANDARD
TZOFFSETFROM:-0500
TZOFFSETTO:-0600
TZNAME:CST
DTSTART:20231105T070000
END:STANDARD
BEGIN:DAYLIGHT
TZOFFSETFROM:-0600
TZOFFSETTO:-0500
TZNAME:CDT
DTSTART:20240310T080000
END:DAYLIGHT
BEGIN:STANDARD
TZOFFSETFROM:-0500
TZOFFSETTO:-0600
TZNAME:CST
DTSTART:20241103T070000
END:STANDARD
BEGIN:DAYLIGHT
TZOFFSETFROM:-0600
TZOFFSETTO:-0500
TZNAME:CDT
DTSTART:20250309T080000
END:DAYLIGHT
BEGIN:STANDARD
TZOFFSETFROM:-0500
TZOFFSETTO:-0600
TZNAME:CST
DTSTART:20251102T070000
END:STANDARD
END:VTIMEZONE
BEGIN:VEVENT
DTSTART;VALUE=DATE:20240717
DTEND;VALUE=DATE:20240718
DTSTAMP:20260420T072245
CREATED:20240611T152507Z
LAST-MODIFIED:20240712T161834Z
UID:10000567-1721174400-1721260799@srfaustin.org
SUMMARY:SRF World Convocation
DESCRIPTION:Please register on Self Realization Fellowship’s website to view Convocation online. \nhttps://yogananda.org/
URL:https://srfaustin.org/event/srf-world-convocation-11/
LOCATION:TX
END:VEVENT
BEGIN:VEVENT
DTSTART;TZID=America/Chicago:20240717T100000
DTEND;TZID=America/Chicago:20240717T130000
DTSTAMP:20260420T072245
CREATED:20240708T152405Z
LAST-MODIFIED:20240712T162108Z
UID:10000595-1721210400-1721221200@srfaustin.org
SUMMARY:Streaming Bro. Chidananda's meditation
DESCRIPTION:Austin Meditation group will be streaming Brother Chidananda’s meditation at our chapel. \nPlease arrive early to do your Energization Exercises on your own and be settled in your seat before the meditation starts at 10:00 am. \nThe meditation concludes at 1:00 pm. We will not be admitting people into the chapel after the meditation begins\, so please arrive early. \nEveryone is invited to bring their lunch and join us in Fellowship Hall after the meditation. \nAt approximately 2:00 we will return back to the chapel to view Tuesday evening’s class.
URL:https://srfaustin.org/event/streaming-bro-chidanandas-meditation/
LOCATION:TX
END:VEVENT
END:VCALENDAR