BEGIN:VCALENDAR
VERSION:2.0
PRODID:-//Austin Meditation Group of Self-Realization Fellowship - ECPv6.15.15//NONSGML v1.0//EN
CALSCALE:GREGORIAN
METHOD:PUBLISH
X-ORIGINAL-URL:https://srfaustin.org
X-WR-CALDESC:Events for Austin Meditation Group of Self-Realization Fellowship
REFRESH-INTERVAL;VALUE=DURATION:PT1H
X-Robots-Tag:noindex
X-PUBLISHED-TTL:PT1H
BEGIN:VTIMEZONE
TZID:America/Chicago
BEGIN:DAYLIGHT
TZOFFSETFROM:-0600
TZOFFSETTO:-0500
TZNAME:CDT
DTSTART:20230312T080000
END:DAYLIGHT
BEGIN:STANDARD
TZOFFSETFROM:-0500
TZOFFSETTO:-0600
TZNAME:CST
DTSTART:20231105T070000
END:STANDARD
BEGIN:DAYLIGHT
TZOFFSETFROM:-0600
TZOFFSETTO:-0500
TZNAME:CDT
DTSTART:20240310T080000
END:DAYLIGHT
BEGIN:STANDARD
TZOFFSETFROM:-0500
TZOFFSETTO:-0600
TZNAME:CST
DTSTART:20241103T070000
END:STANDARD
BEGIN:DAYLIGHT
TZOFFSETFROM:-0600
TZOFFSETTO:-0500
TZNAME:CDT
DTSTART:20250309T080000
END:DAYLIGHT
BEGIN:STANDARD
TZOFFSETFROM:-0500
TZOFFSETTO:-0600
TZNAME:CST
DTSTART:20251102T070000
END:STANDARD
END:VTIMEZONE
BEGIN:VEVENT
DTSTART;TZID=America/Chicago:20240826T183000
DTEND;TZID=America/Chicago:20240826T192000
DTSTAMP:20260419T232024
CREATED:20240708T151231Z
LAST-MODIFIED:20240708T151231Z
UID:10000589-1724697000-1724700000@srfaustin.org
SUMMARY:Lord Krishna Janmashtami Open Meditation
DESCRIPTION:
URL:https://srfaustin.org/event/lord-krishna-janmashtami-open-meditation/
LOCATION:Austin Meditation Group\, 1820 Garden Street\, Austin\, TX\, 78702\, United States
END:VEVENT
BEGIN:VEVENT
DTSTART;TZID=America/Chicago:20240826T193000
DTEND;TZID=America/Chicago:20240826T203000
DTSTAMP:20260419T232024
CREATED:20240708T151450Z
LAST-MODIFIED:20240708T151450Z
UID:10000590-1724700600-1724704200@srfaustin.org
SUMMARY:Lord Krishna Janmashtami Commemoration Service
DESCRIPTION:
URL:https://srfaustin.org/event/lord-krishna-janmashtami-commemoration-service/
LOCATION:Austin Meditation Group\, 1820 Garden Street\, Austin\, TX\, 78702\, United States
END:VEVENT
END:VCALENDAR