BEGIN:VCALENDAR
VERSION:2.0
PRODID:-//Austin Meditation Group of Self-Realization Fellowship - ECPv6.15.15//NONSGML v1.0//EN
CALSCALE:GREGORIAN
METHOD:PUBLISH
X-WR-CALNAME:Austin Meditation Group of Self-Realization Fellowship
X-ORIGINAL-URL:https://srfaustin.org
X-WR-CALDESC:Events for Austin Meditation Group of Self-Realization Fellowship
REFRESH-INTERVAL;VALUE=DURATION:PT1H
X-Robots-Tag:noindex
X-PUBLISHED-TTL:PT1H
BEGIN:VTIMEZONE
TZID:America/Chicago
BEGIN:DAYLIGHT
TZOFFSETFROM:-0600
TZOFFSETTO:-0500
TZNAME:CDT
DTSTART:20220313T080000
END:DAYLIGHT
BEGIN:STANDARD
TZOFFSETFROM:-0500
TZOFFSETTO:-0600
TZNAME:CST
DTSTART:20221106T070000
END:STANDARD
BEGIN:DAYLIGHT
TZOFFSETFROM:-0600
TZOFFSETTO:-0500
TZNAME:CDT
DTSTART:20230312T080000
END:DAYLIGHT
BEGIN:STANDARD
TZOFFSETFROM:-0500
TZOFFSETTO:-0600
TZNAME:CST
DTSTART:20231105T070000
END:STANDARD
BEGIN:DAYLIGHT
TZOFFSETFROM:-0600
TZOFFSETTO:-0500
TZNAME:CDT
DTSTART:20240310T080000
END:DAYLIGHT
BEGIN:STANDARD
TZOFFSETFROM:-0500
TZOFFSETTO:-0600
TZNAME:CST
DTSTART:20241103T070000
END:STANDARD
END:VTIMEZONE
BEGIN:VEVENT
DTSTART;TZID=America/Chicago:20230713T190000
DTEND;TZID=America/Chicago:20230713T210000
DTSTAMP:20260419T114408
CREATED:20230606T023029Z
LAST-MODIFIED:20230606T023029Z
UID:10000282-1689274800-1689282000@srfaustin.org
SUMMARY:Thursday Meditation
DESCRIPTION:Reader: Kevin \nPlayer: Marco \nUsher: Mark R.
URL:https://srfaustin.org/event/thursday-meditation-21/
LOCATION:Austin Meditation Group\, 1820 Garden Street\, Austin\, TX\, 78702\, United States
END:VEVENT
BEGIN:VEVENT
DTSTART;TZID=America/Chicago:20230709T121500
DTEND;TZID=America/Chicago:20230709T131500
DTSTAMP:20260419T114408
CREATED:20230606T030354Z
LAST-MODIFIED:20230606T030354Z
UID:10000299-1688904900-1688908500@srfaustin.org
SUMMARY:General Meeting
DESCRIPTION:Kitty\, John hosting refreshments
URL:https://srfaustin.org/event/general-meeting-2/
LOCATION:Austin Meditation Group\, 1820 Garden Street\, Austin\, TX\, 78702\, United States
END:VEVENT
BEGIN:VEVENT
DTSTART;TZID=America/Chicago:20230709T110000
DTEND;TZID=America/Chicago:20230709T120000
DTSTAMP:20260419T114408
CREATED:20230606T022832Z
LAST-MODIFIED:20230606T022832Z
UID:10000281-1688900400-1688904000@srfaustin.org
SUMMARY:Sunday Reading Service
DESCRIPTION:Vol. III\, #28: The Universal Need for Kriya Yoga \nReader 1: Ron \nReader 2: Chris \nPlayer: Karen \nUsher: Lynne \nGreeter: Gene
URL:https://srfaustin.org/event/sunday-reading-service-25/
LOCATION:Austin Meditation Group\, 1820 Garden Street\, Austin\, TX\, 78702\, United States
END:VEVENT
BEGIN:VEVENT
DTSTART;TZID=America/Chicago:20230709T100000
DTEND;TZID=America/Chicago:20230709T104500
DTSTAMP:20260419T114408
CREATED:20230606T022626Z
LAST-MODIFIED:20230606T022626Z
UID:10000280-1688896800-1688899500@srfaustin.org
SUMMARY:Sunday Meditation Service
DESCRIPTION:Reader: Ron \nPlayer: Karen \nUsher: Lynne \nGreeter: Gene
URL:https://srfaustin.org/event/sunday-meditation-service-27/
LOCATION:Austin Meditation Group\, 1820 Garden Street\, Austin\, TX\, 78702\, United States
END:VEVENT
BEGIN:VEVENT
DTSTART;TZID=America/Chicago:20230708T080000
DTEND;TZID=America/Chicago:20230708T130000
DTSTAMP:20260419T114408
CREATED:20230606T022448Z
LAST-MODIFIED:20230606T022448Z
UID:10000279-1688803200-1688821200@srfaustin.org
SUMMARY:Saturday Long Meditation
DESCRIPTION:Reader: Lynne \nPlayer: Lynne
URL:https://srfaustin.org/event/saturday-long-meditation-24/
LOCATION:Austin Meditation Group\, 1820 Garden Street\, Austin\, TX\, 78702\, United States
END:VEVENT
BEGIN:VEVENT
DTSTART;TZID=America/Chicago:20230706T190000
DTEND;TZID=America/Chicago:20230706T210000
DTSTAMP:20260419T114408
CREATED:20230606T022323Z
LAST-MODIFIED:20230606T022323Z
UID:10000278-1688670000-1688677200@srfaustin.org
SUMMARY:Thursday Meditation
DESCRIPTION:Reader: Vaibhav \nPlayer: Vaibhav \nUsher: Gaby
URL:https://srfaustin.org/event/thursday-meditation-20/
LOCATION:Austin Meditation Group\, 1820 Garden Street\, Austin\, TX\, 78702\, United States
END:VEVENT
BEGIN:VEVENT
DTSTART;VALUE=DATE:20230703
DTEND;VALUE=DATE:20230704
DTSTAMP:20260419T114408
CREATED:20230606T030119Z
LAST-MODIFIED:20230606T030119Z
UID:10000298-1688342400-1688428799@srfaustin.org
SUMMARY:Guru Purnima
DESCRIPTION:Guru Purnima (Poornima) is a religious Hindu festival dedicated to offering respect to all the spiritual and academic gurus. It is celebrated as a festival in India\, Nepal and Bhutan by Hindus\, Jains and Buddhists. This festival is traditionally observed to honour one’s chosen spiritual teachers or leaders. It is observed on the full moon day (Purnima) in the month of Ashadha (June–July) according to the Hindu Calendar. The festival was revived by Mahatma Gandhi to pay tribute to his spiritual guru\, Shrimad Rajchandra. It is also known as Vyasa Purnima\, for it marks the birthday of Veda Vyasa\, the sage who authored the Mahabharata and compiled the Vedas. \nWikipedia
URL:https://srfaustin.org/event/guru-purnima/
LOCATION:TX
END:VEVENT
BEGIN:VEVENT
DTSTART;TZID=America/Chicago:20230702T121500
DTEND;TZID=America/Chicago:20230702T124500
DTSTAMP:20260419T114408
CREATED:20230606T030520Z
LAST-MODIFIED:20230606T030520Z
UID:10000300-1688300100-1688301900@srfaustin.org
SUMMARY:Kirtan practice
DESCRIPTION:Are you interested in learning more about kirtan? \nShort practice of playing the kirtan\, lasting 30 minutes. \nPlease meet with Dorie Howard at the harmonium if you would like to know more. \nNo musical experience is needed.
URL:https://srfaustin.org/event/kirtan-practice-4/
LOCATION:Austin Meditation Group\, 1820 Garden Street\, Austin\, TX\, 78702\, United States
END:VEVENT
BEGIN:VEVENT
DTSTART;TZID=America/Chicago:20230702T110000
DTEND;TZID=America/Chicago:20230702T120000
DTSTAMP:20260419T114408
CREATED:20230606T022148Z
LAST-MODIFIED:20230606T022344Z
UID:10000277-1688295600-1688299200@srfaustin.org
SUMMARY:Sunday Reading Service
DESCRIPTION:Vol. III\, #27: Ascending to Perfection in God \nReader 1: Sushma \nReader 2: Greg \nPlayer: Mike \nUsher: Kevin \nGreeter: Lynne
URL:https://srfaustin.org/event/sunday-reading-service-24/
LOCATION:Austin Meditation Group\, 1820 Garden Street\, Austin\, TX\, 78702\, United States
END:VEVENT
BEGIN:VEVENT
DTSTART;TZID=America/Chicago:20230702T100000
DTEND;TZID=America/Chicago:20230702T104500
DTSTAMP:20260419T114408
CREATED:20230606T021945Z
LAST-MODIFIED:20230606T021945Z
UID:10000276-1688292000-1688294700@srfaustin.org
SUMMARY:Sunday Meditation Service
DESCRIPTION:Reader: Sushma \nPlayer: Mike \nUsher: Kevin \nGreeter: Lynne
URL:https://srfaustin.org/event/sunday-meditation-service-26/
LOCATION:Austin Meditation Group\, 1820 Garden Street\, Austin\, TX\, 78702\, United States
END:VEVENT
BEGIN:VEVENT
DTSTART;TZID=America/Chicago:20230701T080000
DTEND;TZID=America/Chicago:20230701T130000
DTSTAMP:20260419T114408
CREATED:20230606T021713Z
LAST-MODIFIED:20230606T021713Z
UID:10000275-1688198400-1688216400@srfaustin.org
SUMMARY:Saturday Long Meditation
DESCRIPTION:Reader : Gene \nPlayer: Gene
URL:https://srfaustin.org/event/saturday-long-meditation-23/
LOCATION:Austin Meditation Group\, 1820 Garden Street\, Austin\, TX\, 78702\, United States
END:VEVENT
BEGIN:VEVENT
DTSTART;TZID=America/Chicago:20230629T190000
DTEND;TZID=America/Chicago:20230629T210000
DTSTAMP:20260419T114408
CREATED:20230506T203917Z
LAST-MODIFIED:20230506T203917Z
UID:10000269-1688065200-1688072400@srfaustin.org
SUMMARY:Thursday Meditation
DESCRIPTION:Reader: Thaddeus \nPlayer: Marco \nUsher: Vaibhav
URL:https://srfaustin.org/event/thursday-meditation-19/
LOCATION:Austin Meditation Group\, 1820 Garden Street\, Austin\, TX\, 78702\, United States
END:VEVENT
BEGIN:VEVENT
DTSTART;TZID=America/Chicago:20230625T121500
DTEND;TZID=America/Chicago:20230625T141500
DTSTAMP:20260419T114408
CREATED:20230506T204249Z
LAST-MODIFIED:20230506T204249Z
UID:10000271-1687695300-1687702500@srfaustin.org
SUMMARY:Potluck Social
DESCRIPTION:Join us for fun and fellowship at our monthly potluck social. \nPlease bring a vegetarian dish\, serving utensils and your own silverware.
URL:https://srfaustin.org/event/potluck-social-5/
LOCATION:Austin Meditation Group\, 1820 Garden Street\, Austin\, TX\, 78702\, United States
END:VEVENT
BEGIN:VEVENT
DTSTART;TZID=America/Chicago:20230625T110000
DTEND;TZID=America/Chicago:20230625T120000
DTSTAMP:20260419T114408
CREATED:20230506T203741Z
LAST-MODIFIED:20230506T203741Z
UID:10000268-1687690800-1687694400@srfaustin.org
SUMMARY:Sunday Reading Service
DESCRIPTION:Vol. III\, #26: Building World Unity \nReader 1: Kevin \nReader 2: Greg \nPlayer: Rushil \nUsher: Shakti \nGreeter: George
URL:https://srfaustin.org/event/sunday-reading-service-23/
LOCATION:Austin Meditation Group\, 1820 Garden Street\, Austin\, TX\, 78702\, United States
END:VEVENT
BEGIN:VEVENT
DTSTART;TZID=America/Chicago:20230625T100000
DTEND;TZID=America/Chicago:20230625T104500
DTSTAMP:20260419T114408
CREATED:20230506T203529Z
LAST-MODIFIED:20230506T203529Z
UID:10000267-1687687200-1687689900@srfaustin.org
SUMMARY:Sunday Meditation Service
DESCRIPTION:Reader: Kevin \nPlayer: Rushil \nUsher: Shakti \nGreeter: George
URL:https://srfaustin.org/event/sunday-meditation-service-25/
LOCATION:Austin Meditation Group\, 1820 Garden Street\, Austin\, TX\, 78702\, United States
END:VEVENT
BEGIN:VEVENT
DTSTART;TZID=America/Chicago:20230624T080000
DTEND;TZID=America/Chicago:20230624T130000
DTSTAMP:20260419T114408
CREATED:20230506T203353Z
LAST-MODIFIED:20230506T203353Z
UID:10000266-1687593600-1687611600@srfaustin.org
SUMMARY:Saturday Long Meditation
DESCRIPTION:Reader : Gene \nPlayer: Gene
URL:https://srfaustin.org/event/saturday-long-meditation-22/
LOCATION:Austin Meditation Group\, 1820 Garden Street\, Austin\, TX\, 78702\, United States
END:VEVENT
BEGIN:VEVENT
DTSTART;TZID=America/Chicago:20230622T190000
DTEND;TZID=America/Chicago:20230622T210000
DTSTAMP:20260419T114408
CREATED:20230506T203238Z
LAST-MODIFIED:20230506T203238Z
UID:10000265-1687460400-1687467600@srfaustin.org
SUMMARY:Thursday Meditation
DESCRIPTION:Reader: Morgan \nPlayer: Morgan \nUsher: Mark R.
URL:https://srfaustin.org/event/thursday-meditation-18/
LOCATION:Austin Meditation Group\, 1820 Garden Street\, Austin\, TX\, 78702\, United States
END:VEVENT
BEGIN:VEVENT
DTSTART;TZID=America/Chicago:20230618T121500
DTEND;TZID=America/Chicago:20230618T141500
DTSTAMP:20260419T114408
CREATED:20230506T204132Z
LAST-MODIFIED:20230506T204132Z
UID:10000270-1687090500-1687097700@srfaustin.org
SUMMARY:Juice Social
DESCRIPTION:We will have a juice social in our parking lot following the Readings service. \nPlease bring your own silverware\, and an optional dessert if you would like\, but it is certainly not necessary. \n\n\n\n\nhosts: Plumeria and Chris
URL:https://srfaustin.org/event/juice-social-4/
LOCATION:Austin Meditation Group\, 1820 Garden Street\, Austin\, TX\, 78702\, United States
END:VEVENT
BEGIN:VEVENT
DTSTART;TZID=America/Chicago:20230618T110000
DTEND;TZID=America/Chicago:20230618T120000
DTSTAMP:20260419T114408
CREATED:20230506T203053Z
LAST-MODIFIED:20230506T203053Z
UID:10000264-1687086000-1687089600@srfaustin.org
SUMMARY:Sunday Reading Service
DESCRIPTION:Vol. III\, #25: Seeing God as the Sole Doer \nReader 1: Shakti \nReader 2: Daryl \nPlayer: Karen \nUsher: Lynne \nGreeter: Sally
URL:https://srfaustin.org/event/sunday-reading-service-22/
LOCATION:Austin Meditation Group\, 1820 Garden Street\, Austin\, TX\, 78702\, United States
END:VEVENT
BEGIN:VEVENT
DTSTART;TZID=America/Chicago:20230618T100000
DTEND;TZID=America/Chicago:20230618T104500
DTSTAMP:20260419T114408
CREATED:20230506T202842Z
LAST-MODIFIED:20230506T202842Z
UID:10000263-1687082400-1687085100@srfaustin.org
SUMMARY:Sunday Meditation Service
DESCRIPTION:Reader: Shakti \nPlayer: Karen \nUsher: Lynne \nGreeter: Sally
URL:https://srfaustin.org/event/sunday-meditation-service-24/
LOCATION:Austin Meditation Group\, 1820 Garden Street\, Austin\, TX\, 78702\, United States
END:VEVENT
BEGIN:VEVENT
DTSTART;TZID=America/Chicago:20230617T080000
DTEND;TZID=America/Chicago:20230617T130000
DTSTAMP:20260419T114408
CREATED:20230506T202647Z
LAST-MODIFIED:20230606T031042Z
UID:10000262-1686988800-1687006800@srfaustin.org
SUMMARY:Saturday Guided Long Meditation
DESCRIPTION:On Saturday\, June 17\, we will have a guided long meditation. This is a special opportunity for group practice of the energization and meditation techniques\, including Kriya\, as well as the integration of chanting\, affirmations\, and guided visualizations from the teachings of Paramahansa Yogananda. No actual instruction of the techniques will be given but Center Department – approved helpful tips are given. \nThe day begins with group practice of the energization exercises at 8 AM and follows our normal Saturday meditation format which wraps up at 1 PM. \nThis is best for those who have taken or are taking the SRF / YSS lessons. \nReader : Petronela \nPlayer: Petronela
URL:https://srfaustin.org/event/saturday-long-meditation-21/
LOCATION:Austin Meditation Group\, 1820 Garden Street\, Austin\, TX\, 78702\, United States
END:VEVENT
BEGIN:VEVENT
DTSTART;TZID=America/Chicago:20230615T190000
DTEND;TZID=America/Chicago:20230615T210000
DTSTAMP:20260419T114408
CREATED:20230506T202522Z
LAST-MODIFIED:20230506T202522Z
UID:10000261-1686855600-1686862800@srfaustin.org
SUMMARY:Thursday Meditation
DESCRIPTION:Reader: Kevin \nPlayer: Kevin \nUsher: Thaddeus
URL:https://srfaustin.org/event/thursday-meditation-17/
LOCATION:Austin Meditation Group\, 1820 Garden Street\, Austin\, TX\, 78702\, United States
END:VEVENT
BEGIN:VEVENT
DTSTART;TZID=America/Chicago:20230611T123000
DTEND;TZID=America/Chicago:20230611T143000
DTSTAMP:20260419T114408
CREATED:20230527T154241Z
LAST-MODIFIED:20230527T154558Z
UID:10000274-1686486600-1686493800@srfaustin.org
SUMMARY:Picnic at Lady Bird Lake
DESCRIPTION:We are excited to invite you to join us for a picnic that will take place on June 11 following the reading service at 12:30 pm to the new beautiful boardwalk off Lady Bird lake.Master would often organize picnics with devotees especially when the work at Mother Center would get hectic. Master would pack a very simple picnic with nuts\, celery sticks and carrots. Sometimes\, he would even just take the devotees on a drive to the countryside. \nLet’s get together and just enjoy nature together\, thinking and feeling the presence of the Master as we walk and picnic together. Bring your own picnic lunch and drink. \nWe shall meet at the American Statesman parking lot off Riverside behind Tom’s Market.
URL:https://srfaustin.org/event/picnic-at-lady-bird-lake/
LOCATION:Lady Bird Lake\, 309 S Congress Ave\, Austin\, TX\, 78704\, United States
END:VEVENT
BEGIN:VEVENT
DTSTART;TZID=America/Chicago:20230611T110000
DTEND;TZID=America/Chicago:20230611T120000
DTSTAMP:20260419T114408
CREATED:20230506T202326Z
LAST-MODIFIED:20230506T202326Z
UID:10000260-1686481200-1686484800@srfaustin.org
SUMMARY:Sunday Reading Service
DESCRIPTION:Vol. III\, #24: Spiritual Marriage \nReader 1: Greg \nReader 2: Ron \nPlayer: Mike \nUsher: Seth \nGreeter: Daryl
URL:https://srfaustin.org/event/sunday-reading-service-21/
LOCATION:Austin Meditation Group\, 1820 Garden Street\, Austin\, TX\, 78702\, United States
END:VEVENT
BEGIN:VEVENT
DTSTART;TZID=America/Chicago:20230611T100000
DTEND;TZID=America/Chicago:20230611T104500
DTSTAMP:20260419T114408
CREATED:20230506T201905Z
LAST-MODIFIED:20230506T201905Z
UID:10000259-1686477600-1686480300@srfaustin.org
SUMMARY:Sunday Meditation Service
DESCRIPTION:Reader: Greg \nPlayer: Mike \nUsher: Seth \nGreeter: Daryl
URL:https://srfaustin.org/event/sunday-meditation-service-23/
LOCATION:Austin Meditation Group\, 1820 Garden Street\, Austin\, TX\, 78702\, United States
END:VEVENT
BEGIN:VEVENT
DTSTART;TZID=America/Chicago:20230610T080000
DTEND;TZID=America/Chicago:20230610T130000
DTSTAMP:20260419T114408
CREATED:20230506T201659Z
LAST-MODIFIED:20230506T201659Z
UID:10000258-1686384000-1686402000@srfaustin.org
SUMMARY:Saturday Long Meditation
DESCRIPTION:Reader: Lynne \nPlayer: Lynne
URL:https://srfaustin.org/event/saturday-long-meditation-20/
LOCATION:Austin Meditation Group\, 1820 Garden Street\, Austin\, TX\, 78702\, United States
END:VEVENT
BEGIN:VEVENT
DTSTART;TZID=America/Chicago:20230608T190000
DTEND;TZID=America/Chicago:20230608T210000
DTSTAMP:20260419T114408
CREATED:20230506T201531Z
LAST-MODIFIED:20230506T201531Z
UID:10000257-1686250800-1686258000@srfaustin.org
SUMMARY:Thursday Meditation
DESCRIPTION:Reader: Vaibhav \nPlayer: Vaibhav \nUsher: Mark R.
URL:https://srfaustin.org/event/thursday-meditation-16/
LOCATION:Austin Meditation Group\, 1820 Garden Street\, Austin\, TX\, 78702\, United States
END:VEVENT
BEGIN:VEVENT
DTSTART;TZID=America/Chicago:20230604T121500
DTEND;TZID=America/Chicago:20230604T124500
DTSTAMP:20260419T114408
CREATED:20230506T204446Z
LAST-MODIFIED:20230506T204446Z
UID:10000272-1685880900-1685882700@srfaustin.org
SUMMARY:Kirtan practice
DESCRIPTION:Are you interested in learning more about kirtan? \nShort practice of playing the kirtan\, lasting 30 minutes. \nPlease meet with Dorie Howard at the harmonium if you would like to know more. \nNo musical experience is needed.
URL:https://srfaustin.org/event/kirtan-practice-3/
LOCATION:Austin Meditation Group\, 1820 Garden Street\, Austin\, TX\, 78702\, United States
END:VEVENT
BEGIN:VEVENT
DTSTART;TZID=America/Chicago:20230604T110000
DTEND;TZID=America/Chicago:20230604T120000
DTSTAMP:20260419T114408
CREATED:20230506T201302Z
LAST-MODIFIED:20230506T201302Z
UID:10000256-1685876400-1685880000@srfaustin.org
SUMMARY:Sunday Reading Service
DESCRIPTION:Vol. III\, #23: Four Fundamental Ways to Realize God \nReader 1: Lynne \nReader 2: Sally \nPlayer: Mark G. \nUsher: Ron \nGreeter: Vaibhav
URL:https://srfaustin.org/event/sunday-reading-service-20/
LOCATION:Austin Meditation Group\, 1820 Garden Street\, Austin\, TX\, 78702\, United States
END:VEVENT
BEGIN:VEVENT
DTSTART;TZID=America/Chicago:20230604T100000
DTEND;TZID=America/Chicago:20230604T104500
DTSTAMP:20260419T114408
CREATED:20230506T200815Z
LAST-MODIFIED:20230506T200815Z
UID:10000255-1685872800-1685875500@srfaustin.org
SUMMARY:Sunday Meditation Service
DESCRIPTION:Reader: Lynne \nPlayer: Mark G. \nUsher: Ron \nGreeter: Vaibhav
URL:https://srfaustin.org/event/sunday-meditation-service-22/
LOCATION:Austin Meditation Group\, 1820 Garden Street\, Austin\, TX\, 78702\, United States
END:VEVENT
END:VCALENDAR