BEGIN:VCALENDAR
VERSION:2.0
PRODID:-//Austin Meditation Group of Self-Realization Fellowship - ECPv6.15.15//NONSGML v1.0//EN
CALSCALE:GREGORIAN
METHOD:PUBLISH
X-WR-CALNAME:Austin Meditation Group of Self-Realization Fellowship
X-ORIGINAL-URL:https://srfaustin.org
X-WR-CALDESC:Events for Austin Meditation Group of Self-Realization Fellowship
REFRESH-INTERVAL;VALUE=DURATION:PT1H
X-Robots-Tag:noindex
X-PUBLISHED-TTL:PT1H
BEGIN:VTIMEZONE
TZID:America/Chicago
BEGIN:DAYLIGHT
TZOFFSETFROM:-0600
TZOFFSETTO:-0500
TZNAME:CDT
DTSTART:20220313T080000
END:DAYLIGHT
BEGIN:STANDARD
TZOFFSETFROM:-0500
TZOFFSETTO:-0600
TZNAME:CST
DTSTART:20221106T070000
END:STANDARD
BEGIN:DAYLIGHT
TZOFFSETFROM:-0600
TZOFFSETTO:-0500
TZNAME:CDT
DTSTART:20230312T080000
END:DAYLIGHT
BEGIN:STANDARD
TZOFFSETFROM:-0500
TZOFFSETTO:-0600
TZNAME:CST
DTSTART:20231105T070000
END:STANDARD
BEGIN:DAYLIGHT
TZOFFSETFROM:-0600
TZOFFSETTO:-0500
TZNAME:CDT
DTSTART:20240310T080000
END:DAYLIGHT
BEGIN:STANDARD
TZOFFSETFROM:-0500
TZOFFSETTO:-0600
TZNAME:CST
DTSTART:20241103T070000
END:STANDARD
END:VTIMEZONE
BEGIN:VTIMEZONE
TZID:America/New_York
BEGIN:DAYLIGHT
TZOFFSETFROM:-0500
TZOFFSETTO:-0400
TZNAME:EDT
DTSTART:20220313T070000
END:DAYLIGHT
BEGIN:STANDARD
TZOFFSETFROM:-0400
TZOFFSETTO:-0500
TZNAME:EST
DTSTART:20221106T060000
END:STANDARD
BEGIN:DAYLIGHT
TZOFFSETFROM:-0500
TZOFFSETTO:-0400
TZNAME:EDT
DTSTART:20230312T070000
END:DAYLIGHT
BEGIN:STANDARD
TZOFFSETFROM:-0400
TZOFFSETTO:-0500
TZNAME:EST
DTSTART:20231105T060000
END:STANDARD
BEGIN:DAYLIGHT
TZOFFSETFROM:-0500
TZOFFSETTO:-0400
TZNAME:EDT
DTSTART:20240310T070000
END:DAYLIGHT
BEGIN:STANDARD
TZOFFSETFROM:-0400
TZOFFSETTO:-0500
TZNAME:EST
DTSTART:20241103T060000
END:STANDARD
END:VTIMEZONE
BEGIN:VEVENT
DTSTART;TZID=America/Chicago:20230617T080000
DTEND;TZID=America/Chicago:20230617T130000
DTSTAMP:20260422T173459
CREATED:20230506T202647Z
LAST-MODIFIED:20230606T031042Z
UID:10000262-1686988800-1687006800@srfaustin.org
SUMMARY:Saturday Guided Long Meditation
DESCRIPTION:On Saturday\, June 17\, we will have a guided long meditation. This is a special opportunity for group practice of the energization and meditation techniques\, including Kriya\, as well as the integration of chanting\, affirmations\, and guided visualizations from the teachings of Paramahansa Yogananda. No actual instruction of the techniques will be given but Center Department – approved helpful tips are given. \nThe day begins with group practice of the energization exercises at 8 AM and follows our normal Saturday meditation format which wraps up at 1 PM. \nThis is best for those who have taken or are taking the SRF / YSS lessons. \nReader : Petronela \nPlayer: Petronela
URL:https://srfaustin.org/event/saturday-long-meditation-21/
LOCATION:Austin Meditation Group\, 1820 Garden Street\, Austin\, TX\, 78702\, United States
END:VEVENT
BEGIN:VEVENT
DTSTART;TZID=America/Chicago:20230615T190000
DTEND;TZID=America/Chicago:20230615T210000
DTSTAMP:20260422T173459
CREATED:20230506T202522Z
LAST-MODIFIED:20230506T202522Z
UID:10000261-1686855600-1686862800@srfaustin.org
SUMMARY:Thursday Meditation
DESCRIPTION:Reader: Kevin \nPlayer: Kevin \nUsher: Thaddeus
URL:https://srfaustin.org/event/thursday-meditation-17/
LOCATION:Austin Meditation Group\, 1820 Garden Street\, Austin\, TX\, 78702\, United States
END:VEVENT
BEGIN:VEVENT
DTSTART;TZID=America/Chicago:20230611T123000
DTEND;TZID=America/Chicago:20230611T143000
DTSTAMP:20260422T173459
CREATED:20230527T154241Z
LAST-MODIFIED:20230527T154558Z
UID:10000274-1686486600-1686493800@srfaustin.org
SUMMARY:Picnic at Lady Bird Lake
DESCRIPTION:We are excited to invite you to join us for a picnic that will take place on June 11 following the reading service at 12:30 pm to the new beautiful boardwalk off Lady Bird lake.Master would often organize picnics with devotees especially when the work at Mother Center would get hectic. Master would pack a very simple picnic with nuts\, celery sticks and carrots. Sometimes\, he would even just take the devotees on a drive to the countryside. \nLet’s get together and just enjoy nature together\, thinking and feeling the presence of the Master as we walk and picnic together. Bring your own picnic lunch and drink. \nWe shall meet at the American Statesman parking lot off Riverside behind Tom’s Market.
URL:https://srfaustin.org/event/picnic-at-lady-bird-lake/
LOCATION:Lady Bird Lake\, 309 S Congress Ave\, Austin\, TX\, 78704\, United States
END:VEVENT
BEGIN:VEVENT
DTSTART;TZID=America/Chicago:20230611T110000
DTEND;TZID=America/Chicago:20230611T120000
DTSTAMP:20260422T173459
CREATED:20230506T202326Z
LAST-MODIFIED:20230506T202326Z
UID:10000260-1686481200-1686484800@srfaustin.org
SUMMARY:Sunday Reading Service
DESCRIPTION:Vol. III\, #24: Spiritual Marriage \nReader 1: Greg \nReader 2: Ron \nPlayer: Mike \nUsher: Seth \nGreeter: Daryl
URL:https://srfaustin.org/event/sunday-reading-service-21/
LOCATION:Austin Meditation Group\, 1820 Garden Street\, Austin\, TX\, 78702\, United States
END:VEVENT
BEGIN:VEVENT
DTSTART;TZID=America/Chicago:20230611T100000
DTEND;TZID=America/Chicago:20230611T104500
DTSTAMP:20260422T173459
CREATED:20230506T201905Z
LAST-MODIFIED:20230506T201905Z
UID:10000259-1686477600-1686480300@srfaustin.org
SUMMARY:Sunday Meditation Service
DESCRIPTION:Reader: Greg \nPlayer: Mike \nUsher: Seth \nGreeter: Daryl
URL:https://srfaustin.org/event/sunday-meditation-service-23/
LOCATION:Austin Meditation Group\, 1820 Garden Street\, Austin\, TX\, 78702\, United States
END:VEVENT
BEGIN:VEVENT
DTSTART;TZID=America/Chicago:20230610T080000
DTEND;TZID=America/Chicago:20230610T130000
DTSTAMP:20260422T173459
CREATED:20230506T201659Z
LAST-MODIFIED:20230506T201659Z
UID:10000258-1686384000-1686402000@srfaustin.org
SUMMARY:Saturday Long Meditation
DESCRIPTION:Reader: Lynne \nPlayer: Lynne
URL:https://srfaustin.org/event/saturday-long-meditation-20/
LOCATION:Austin Meditation Group\, 1820 Garden Street\, Austin\, TX\, 78702\, United States
END:VEVENT
BEGIN:VEVENT
DTSTART;TZID=America/Chicago:20230608T190000
DTEND;TZID=America/Chicago:20230608T210000
DTSTAMP:20260422T173459
CREATED:20230506T201531Z
LAST-MODIFIED:20230506T201531Z
UID:10000257-1686250800-1686258000@srfaustin.org
SUMMARY:Thursday Meditation
DESCRIPTION:Reader: Vaibhav \nPlayer: Vaibhav \nUsher: Mark R.
URL:https://srfaustin.org/event/thursday-meditation-16/
LOCATION:Austin Meditation Group\, 1820 Garden Street\, Austin\, TX\, 78702\, United States
END:VEVENT
BEGIN:VEVENT
DTSTART;TZID=America/Chicago:20230604T121500
DTEND;TZID=America/Chicago:20230604T124500
DTSTAMP:20260422T173459
CREATED:20230506T204446Z
LAST-MODIFIED:20230506T204446Z
UID:10000272-1685880900-1685882700@srfaustin.org
SUMMARY:Kirtan practice
DESCRIPTION:Are you interested in learning more about kirtan? \nShort practice of playing the kirtan\, lasting 30 minutes. \nPlease meet with Dorie Howard at the harmonium if you would like to know more. \nNo musical experience is needed.
URL:https://srfaustin.org/event/kirtan-practice-3/
LOCATION:Austin Meditation Group\, 1820 Garden Street\, Austin\, TX\, 78702\, United States
END:VEVENT
BEGIN:VEVENT
DTSTART;TZID=America/Chicago:20230604T110000
DTEND;TZID=America/Chicago:20230604T120000
DTSTAMP:20260422T173459
CREATED:20230506T201302Z
LAST-MODIFIED:20230506T201302Z
UID:10000256-1685876400-1685880000@srfaustin.org
SUMMARY:Sunday Reading Service
DESCRIPTION:Vol. III\, #23: Four Fundamental Ways to Realize God \nReader 1: Lynne \nReader 2: Sally \nPlayer: Mark G. \nUsher: Ron \nGreeter: Vaibhav
URL:https://srfaustin.org/event/sunday-reading-service-20/
LOCATION:Austin Meditation Group\, 1820 Garden Street\, Austin\, TX\, 78702\, United States
END:VEVENT
BEGIN:VEVENT
DTSTART;TZID=America/Chicago:20230604T100000
DTEND;TZID=America/Chicago:20230604T104500
DTSTAMP:20260422T173459
CREATED:20230506T200815Z
LAST-MODIFIED:20230506T200815Z
UID:10000255-1685872800-1685875500@srfaustin.org
SUMMARY:Sunday Meditation Service
DESCRIPTION:Reader: Lynne \nPlayer: Mark G. \nUsher: Ron \nGreeter: Vaibhav
URL:https://srfaustin.org/event/sunday-meditation-service-22/
LOCATION:Austin Meditation Group\, 1820 Garden Street\, Austin\, TX\, 78702\, United States
END:VEVENT
BEGIN:VEVENT
DTSTART;TZID=America/Chicago:20230603T080000
DTEND;TZID=America/Chicago:20230603T130000
DTSTAMP:20260422T173459
CREATED:20230506T200601Z
LAST-MODIFIED:20230506T200601Z
UID:10000254-1685779200-1685797200@srfaustin.org
SUMMARY:Saturday Long Meditation
DESCRIPTION:Reader : Sushma ♥ \nPlayer: Shantaram
URL:https://srfaustin.org/event/saturday-long-meditation-19/
LOCATION:Austin Meditation Group\, 1820 Garden Street\, Austin\, TX\, 78702\, United States
END:VEVENT
BEGIN:VEVENT
DTSTART;TZID=America/Chicago:20230601T183000
DTEND;TZID=America/Chicago:20230601T210000
DTSTAMP:20260422T173459
CREATED:20230506T200308Z
LAST-MODIFIED:20230506T200308Z
UID:10000253-1685644200-1685653200@srfaustin.org
SUMMARY:Thursday Meditation
DESCRIPTION:Reader: Shakti \nPlayer: Shakti \nUsher: Gaby
URL:https://srfaustin.org/event/thursday-meditation-15/
LOCATION:Austin Meditation Group\, 1820 Garden Street\, Austin\, TX\, 78702\, United States
END:VEVENT
BEGIN:VEVENT
DTSTART;TZID=America/New_York:20230528T121500
DTEND;TZID=America/New_York:20230528T141500
DTSTAMP:20260422T173459
CREATED:20230405T020532Z
LAST-MODIFIED:20230405T020605Z
UID:10000250-1685276100-1685283300@srfaustin.org
SUMMARY:Potluck Social
DESCRIPTION:Join us for fun and fellowship at our monthly potluck social. \nPlease bring a vegetarian dish\, serving utensils and your own silverware.
URL:https://srfaustin.org/event/potluck-social-4/
LOCATION:Austin Meditation Group\, 1820 Garden Street\, Austin\, TX\, 78702\, United States
END:VEVENT
BEGIN:VEVENT
DTSTART;TZID=America/New_York:20230528T110000
DTEND;TZID=America/New_York:20230528T120000
DTSTAMP:20260422T173459
CREATED:20230405T015503Z
LAST-MODIFIED:20230405T015503Z
UID:10000246-1685271600-1685275200@srfaustin.org
SUMMARY:Sunday Reading Service
DESCRIPTION:Vol. III\, #22: Self-Analysis: Key to the Mastery of Life \nReader 1: Ron \nReader 2: Greg \nPlayer: Karen \nUsher: Sally \nGreeter: Shakti
URL:https://srfaustin.org/event/sunday-reading-service-19/
LOCATION:Austin Meditation Group\, 1820 Garden Street\, Austin\, TX\, 78702\, United States
END:VEVENT
BEGIN:VEVENT
DTSTART;TZID=America/New_York:20230528T100000
DTEND;TZID=America/New_York:20230528T104500
DTSTAMP:20260422T173459
CREATED:20230405T015226Z
LAST-MODIFIED:20230405T015226Z
UID:10000245-1685268000-1685270700@srfaustin.org
SUMMARY:Sunday Meditation Service
DESCRIPTION:Reader: Ron \nPlayer: Karen \nUsher: Sally \nGreeter: Shakti
URL:https://srfaustin.org/event/sunday-meditation-service-21/
LOCATION:Austin Meditation Group\, 1820 Garden Street\, Austin\, TX\, 78702\, United States
END:VEVENT
BEGIN:VEVENT
DTSTART;TZID=America/New_York:20230527T080000
DTEND;TZID=America/New_York:20230527T130000
DTSTAMP:20260422T173500
CREATED:20230405T015017Z
LAST-MODIFIED:20230405T015017Z
UID:10000244-1685174400-1685192400@srfaustin.org
SUMMARY:Saturday Long Meditation
DESCRIPTION:Reader: Lynne \nPlayer: Lynne
URL:https://srfaustin.org/event/saturday-long-meditation-18/
LOCATION:Austin Meditation Group\, 1820 Garden Street\, Austin\, TX\, 78702\, United States
END:VEVENT
BEGIN:VEVENT
DTSTART;TZID=America/New_York:20230525T190000
DTEND;TZID=America/New_York:20230525T210000
DTSTAMP:20260422T173500
CREATED:20230405T014906Z
LAST-MODIFIED:20230405T014906Z
UID:10000243-1685041200-1685048400@srfaustin.org
SUMMARY:Thursday Meditation
DESCRIPTION:Reader: Kevin \nPlayer: Kevin \nUsher: Gaby
URL:https://srfaustin.org/event/thursday-meditation-14/
LOCATION:Austin Meditation Group\, 1820 Garden Street\, Austin\, TX\, 78702\, United States
END:VEVENT
BEGIN:VEVENT
DTSTART;TZID=America/New_York:20230521T121500
DTEND;TZID=America/New_York:20230521T141500
DTSTAMP:20260422T173500
CREATED:20230405T020340Z
LAST-MODIFIED:20230405T020340Z
UID:10000249-1684671300-1684678500@srfaustin.org
SUMMARY:Juice Social
DESCRIPTION:We will have a juice social in our parking lot following the Readings service. \nPlease bring your own silverware\, and an optional dessert if you would like\, but it is certainly not necessary. \n\n\n\n\nhosts: Kitty and John
URL:https://srfaustin.org/event/juice-social-3/
LOCATION:Austin Meditation Group\, 1820 Garden Street\, Austin\, TX\, 78702\, United States
END:VEVENT
BEGIN:VEVENT
DTSTART;TZID=America/New_York:20230521T110000
DTEND;TZID=America/New_York:20230521T120000
DTSTAMP:20260422T173500
CREATED:20230405T014712Z
LAST-MODIFIED:20230405T014712Z
UID:10000242-1684666800-1684670400@srfaustin.org
SUMMARY:Sunday Reading Service
DESCRIPTION:Vol. III\, #21: Eliminating Fear \nReader 1: Shantaram \nReader 2: Shakti \nPlayer: Mike \nUsher: Daryl \nGreeter: Ron
URL:https://srfaustin.org/event/sunday-reading-service-18/
LOCATION:Austin Meditation Group\, 1820 Garden Street\, Austin\, TX\, 78702\, United States
END:VEVENT
BEGIN:VEVENT
DTSTART;TZID=America/New_York:20230521T100000
DTEND;TZID=America/New_York:20230521T104500
DTSTAMP:20260422T173500
CREATED:20230405T014507Z
LAST-MODIFIED:20230405T014507Z
UID:10000241-1684663200-1684665900@srfaustin.org
SUMMARY:Sunday Meditation Service
DESCRIPTION:Reader: Shantaram \nPlayer: Mike \nUsher: Daryl \nGreeter: Ron
URL:https://srfaustin.org/event/sunday-meditation-service-20/
LOCATION:Austin Meditation Group\, 1820 Garden Street\, Austin\, TX\, 78702\, United States
END:VEVENT
BEGIN:VEVENT
DTSTART;TZID=America/New_York:20230520T080000
DTEND;TZID=America/New_York:20230520T130000
DTSTAMP:20260422T173500
CREATED:20230405T014322Z
LAST-MODIFIED:20230405T014322Z
UID:10000240-1684569600-1684587600@srfaustin.org
SUMMARY:Saturday Long Meditation
DESCRIPTION:Reader : Petronela \nPlayer: Petronela
URL:https://srfaustin.org/event/saturday-long-meditation-17/
LOCATION:Austin Meditation Group\, 1820 Garden Street\, Austin\, TX\, 78702\, United States
END:VEVENT
BEGIN:VEVENT
DTSTART;TZID=America/New_York:20230518T190000
DTEND;TZID=America/New_York:20230518T210000
DTSTAMP:20260422T173500
CREATED:20230405T014208Z
LAST-MODIFIED:20230405T014208Z
UID:10000239-1684436400-1684443600@srfaustin.org
SUMMARY:Thursday Meditation
DESCRIPTION:Reader: Vaibhav \nPlayer: Vaibhav \nUsher: Thaddeus
URL:https://srfaustin.org/event/thursday-meditation-13/
LOCATION:Austin Meditation Group\, 1820 Garden Street\, Austin\, TX\, 78702\, United States
END:VEVENT
BEGIN:VEVENT
DTSTART;TZID=America/New_York:20230514T121500
DTEND;TZID=America/New_York:20230514T124500
DTSTAMP:20260422T173500
CREATED:20230408T140739Z
LAST-MODIFIED:20230408T140739Z
UID:10000252-1684066500-1684068300@srfaustin.org
SUMMARY:Kirtan practice
DESCRIPTION:Are you interested in learning more about kirtan? \nShort practice of playing the kirtan\, lasting 30 minutes. \nPlease meet with Dorie Howard at the harmonium if you would like to know more. \nNo musical experience is needed.
URL:https://srfaustin.org/event/kirtan-practice-2/
LOCATION:Austin Meditation Group\, 1820 Garden Street\, Austin\, TX\, 78702\, United States
END:VEVENT
BEGIN:VEVENT
DTSTART;TZID=America/New_York:20230514T110000
DTEND;TZID=America/New_York:20230514T120000
DTSTAMP:20260422T173500
CREATED:20230405T014019Z
LAST-MODIFIED:20230405T014019Z
UID:10000238-1684062000-1684065600@srfaustin.org
SUMMARY:Sunday Reading Service
DESCRIPTION:Vol. III\, #19: Mothers: Manifestations of God’s Love \nReader 1: Sushma ♥ \nReader 2: Daryl \nPlayer: Rushil \nUsher: Vaibhav \nGreeter: Seth
URL:https://srfaustin.org/event/sunday-reading-service-17/
LOCATION:Austin Meditation Group\, 1820 Garden Street\, Austin\, TX\, 78702\, United States
END:VEVENT
BEGIN:VEVENT
DTSTART;TZID=America/New_York:20230514T100000
DTEND;TZID=America/New_York:20230514T104500
DTSTAMP:20260422T173500
CREATED:20230405T013746Z
LAST-MODIFIED:20230405T013746Z
UID:10000237-1684058400-1684061100@srfaustin.org
SUMMARY:Sunday Meditation Service
DESCRIPTION:Reader: Sushma ♥ \nPlayer: Rushil \nUsher: Vaibhav \nGreeter: Seth
URL:https://srfaustin.org/event/sunday-meditation-service-19/
LOCATION:Austin Meditation Group\, 1820 Garden Street\, Austin\, TX\, 78702\, United States
END:VEVENT
BEGIN:VEVENT
DTSTART;TZID=America/New_York:20230513T080000
DTEND;TZID=America/New_York:20230513T130000
DTSTAMP:20260422T173500
CREATED:20230405T013326Z
LAST-MODIFIED:20230405T013326Z
UID:10000236-1683964800-1683982800@srfaustin.org
SUMMARY:Saturday Long Meditation
DESCRIPTION:Reader: Gene \nPlayer: Gene
URL:https://srfaustin.org/event/saturday-long-meditation-16/
LOCATION:Austin Meditation Group\, 1820 Garden Street\, Austin\, TX\, 78702\, United States
END:VEVENT
BEGIN:VEVENT
DTSTART;TZID=America/New_York:20230511T183000
DTEND;TZID=America/New_York:20230511T210000
DTSTAMP:20260422T173500
CREATED:20230405T013209Z
LAST-MODIFIED:20230405T013209Z
UID:10000235-1683829800-1683838800@srfaustin.org
SUMMARY:Thursday Meditation | CANCELLED |
DESCRIPTION:Meditation CANCELLED
URL:https://srfaustin.org/event/thursday-meditation-cancelled-2/
LOCATION:Austin Meditation Group\, 1820 Garden Street\, Austin\, TX\, 78702\, United States
END:VEVENT
BEGIN:VEVENT
DTSTART;TZID=America/New_York:20230510T193000
DTEND;TZID=America/New_York:20230510T203000
DTSTAMP:20260422T173500
CREATED:20230405T013020Z
LAST-MODIFIED:20230405T013020Z
UID:10000234-1683747000-1683750600@srfaustin.org
SUMMARY:Swami Sri Yukteswar Birthday Commemoration Service
DESCRIPTION:Reader: Morgan \nPlayer: Kirtan Group \nUsher: Kevin \nGreeter: Mark R
URL:https://srfaustin.org/event/swami-sri-yukteswar-birthday-commemoration-service/
LOCATION:Austin Meditation Group\, 1820 Garden Street\, Austin\, TX\, 78702\, United States
END:VEVENT
BEGIN:VEVENT
DTSTART;TZID=America/New_York:20230510T183000
DTEND;TZID=America/New_York:20230510T192000
DTSTAMP:20260422T173500
CREATED:20230405T012645Z
LAST-MODIFIED:20230405T012645Z
UID:10000233-1683743400-1683746400@srfaustin.org
SUMMARY:Open Meditation
DESCRIPTION:Usher: Kevin \nGreeter: Mark R.
URL:https://srfaustin.org/event/open-meditation-3/
LOCATION:Austin Meditation Group\, 1820 Garden Street\, Austin\, TX\, 78702\, United States
END:VEVENT
BEGIN:VEVENT
DTSTART;TZID=America/New_York:20230507T121500
DTEND;TZID=America/New_York:20230507T131500
DTSTAMP:20260422T173500
CREATED:20230405T020135Z
LAST-MODIFIED:20230405T020135Z
UID:10000248-1683461700-1683465300@srfaustin.org
SUMMARY:Usher / Greeter Training
DESCRIPTION:
URL:https://srfaustin.org/event/usher-greeter-training/
LOCATION:Austin Meditation Group\, 1820 Garden Street\, Austin\, TX\, 78702\, United States
END:VEVENT
END:VCALENDAR