BEGIN:VCALENDAR
VERSION:2.0
PRODID:-//Austin Meditation Group of Self-Realization Fellowship - ECPv6.15.15//NONSGML v1.0//EN
CALSCALE:GREGORIAN
METHOD:PUBLISH
X-WR-CALNAME:Austin Meditation Group of Self-Realization Fellowship
X-ORIGINAL-URL:https://srfaustin.org
X-WR-CALDESC:Events for Austin Meditation Group of Self-Realization Fellowship
REFRESH-INTERVAL;VALUE=DURATION:PT1H
X-Robots-Tag:noindex
X-PUBLISHED-TTL:PT1H
BEGIN:VTIMEZONE
TZID:America/New_York
BEGIN:DAYLIGHT
TZOFFSETFROM:-0500
TZOFFSETTO:-0400
TZNAME:EDT
DTSTART:20220313T070000
END:DAYLIGHT
BEGIN:STANDARD
TZOFFSETFROM:-0400
TZOFFSETTO:-0500
TZNAME:EST
DTSTART:20221106T060000
END:STANDARD
BEGIN:DAYLIGHT
TZOFFSETFROM:-0500
TZOFFSETTO:-0400
TZNAME:EDT
DTSTART:20230312T070000
END:DAYLIGHT
BEGIN:STANDARD
TZOFFSETFROM:-0400
TZOFFSETTO:-0500
TZNAME:EST
DTSTART:20231105T060000
END:STANDARD
BEGIN:DAYLIGHT
TZOFFSETFROM:-0500
TZOFFSETTO:-0400
TZNAME:EDT
DTSTART:20240310T070000
END:DAYLIGHT
BEGIN:STANDARD
TZOFFSETFROM:-0400
TZOFFSETTO:-0500
TZNAME:EST
DTSTART:20241103T060000
END:STANDARD
END:VTIMEZONE
BEGIN:VEVENT
DTSTART;TZID=America/New_York:20230420T190000
DTEND;TZID=America/New_York:20230420T210000
DTSTAMP:20260424T012828
CREATED:20230318T195841Z
LAST-MODIFIED:20230318T195841Z
UID:10000217-1682017200-1682024400@srfaustin.org
SUMMARY:Thursday Meditation
DESCRIPTION:Reader: Kevin \nPlayer: Marco \nUsher: Thaddeus
URL:https://srfaustin.org/event/thursday-meditation-10/
LOCATION:Austin Meditation Group\, 1820 Garden Street\, Austin\, TX\, 78702\, United States
END:VEVENT
BEGIN:VEVENT
DTSTART;TZID=America/New_York:20230416T121500
DTEND;TZID=America/New_York:20230416T141500
DTSTAMP:20260424T012828
CREATED:20230318T201909Z
LAST-MODIFIED:20230318T201909Z
UID:10000227-1681647300-1681654500@srfaustin.org
SUMMARY:Juice Social
DESCRIPTION:Weather permitting\, we will have a juice social in our parking lot following the Readings service. \nPlease bring your own silverware\, and an optional dessert if you would like\, but it is certainly not necessary. \n\n\n\n\nhosts: Gaby and Chris
URL:https://srfaustin.org/event/juice-social-2/
LOCATION:Austin Meditation Group\, 1820 Garden Street\, Austin\, TX\, 78702\, United States
END:VEVENT
BEGIN:VEVENT
DTSTART;TZID=America/New_York:20230416T110000
DTEND;TZID=America/New_York:20230416T120000
DTSTAMP:20260424T012828
CREATED:20230318T195656Z
LAST-MODIFIED:20230318T195656Z
UID:10000216-1681642800-1681646400@srfaustin.org
SUMMARY:Sunday Reading Service
DESCRIPTION:Vol. III\, #16: The Balanced Life \nReader 1: Mike \nReader 2: Daryl \nPlayer: Vaibhav \nUsher: Sally \nGreeter: Ron
URL:https://srfaustin.org/event/sunday-reading-service-13/
LOCATION:Austin Meditation Group\, 1820 Garden Street\, Austin\, TX\, 78702\, United States
END:VEVENT
BEGIN:VEVENT
DTSTART;TZID=America/New_York:20230416T100000
DTEND;TZID=America/New_York:20230416T104500
DTSTAMP:20260424T012828
CREATED:20230318T195440Z
LAST-MODIFIED:20230318T195440Z
UID:10000215-1681639200-1681641900@srfaustin.org
SUMMARY:Sunday Meditation Service
DESCRIPTION:Reader: Mike \nPlayer: Vaibhav \nUsher: Sally \nGreeter: Ron
URL:https://srfaustin.org/event/sunday-meditation-service-15/
LOCATION:Austin Meditation Group\, 1820 Garden Street\, Austin\, TX\, 78702\, United States
END:VEVENT
BEGIN:VEVENT
DTSTART;TZID=America/New_York:20230415T080000
DTEND;TZID=America/New_York:20230415T130000
DTSTAMP:20260424T012828
CREATED:20230318T195254Z
LAST-MODIFIED:20230318T195254Z
UID:10000214-1681545600-1681563600@srfaustin.org
SUMMARY:Saturday Long Meditation
DESCRIPTION:Reader : Petronela \nPlayer: Petronela
URL:https://srfaustin.org/event/saturday-long-meditation-12/
LOCATION:Austin Meditation Group\, 1820 Garden Street\, Austin\, TX\, 78702\, United States
END:VEVENT
BEGIN:VEVENT
DTSTART;TZID=America/New_York:20230413T190000
DTEND;TZID=America/New_York:20230413T210000
DTSTAMP:20260424T012828
CREATED:20230318T195109Z
LAST-MODIFIED:20230318T195109Z
UID:10000213-1681412400-1681419600@srfaustin.org
SUMMARY:Thursday Meditation
DESCRIPTION:Reader: Morgan \nPlayer: Morgan \nUsher: Gaby
URL:https://srfaustin.org/event/thursday-meditation-9/
LOCATION:Austin Meditation Group\, 1820 Garden Street\, Austin\, TX\, 78702\, United States
END:VEVENT
BEGIN:VEVENT
DTSTART;TZID=America/New_York:20230409T121500
DTEND;TZID=America/New_York:20230409T134500
DTSTAMP:20260424T012828
CREATED:20230318T201723Z
LAST-MODIFIED:20230318T201723Z
UID:10000226-1681042500-1681047900@srfaustin.org
SUMMARY:Easter Sunday
DESCRIPTION:
URL:https://srfaustin.org/event/easter-sunday/
LOCATION:Austin Meditation Group\, 1820 Garden Street\, Austin\, TX\, 78702\, United States
END:VEVENT
BEGIN:VEVENT
DTSTART;TZID=America/New_York:20230409T110000
DTEND;TZID=America/New_York:20230409T120000
DTSTAMP:20260424T012828
CREATED:20230318T194917Z
LAST-MODIFIED:20230318T194917Z
UID:10000212-1681038000-1681041600@srfaustin.org
SUMMARY:Sunday Reading Service
DESCRIPTION:Vol. III\, #13: The Easter Message of Immortality \nReader 1: Lynne \nReader 2: Shakti \nPlayer: Karen \nUsher: Seth \nGreeter: Daryl
URL:https://srfaustin.org/event/sunday-reading-service-12/
LOCATION:Austin Meditation Group\, 1820 Garden Street\, Austin\, TX\, 78702\, United States
END:VEVENT
BEGIN:VEVENT
DTSTART;TZID=America/New_York:20230409T100000
DTEND;TZID=America/New_York:20230409T104500
DTSTAMP:20260424T012828
CREATED:20230318T194630Z
LAST-MODIFIED:20230318T194630Z
UID:10000211-1681034400-1681037100@srfaustin.org
SUMMARY:Sunday Meditation Service
DESCRIPTION:Reader: Lynne \nPlayer: Karen \nUsher: Seth \nGreeter: Daryl
URL:https://srfaustin.org/event/sunday-meditation-service-14/
LOCATION:Austin Meditation Group\, 1820 Garden Street\, Austin\, TX\, 78702\, United States
END:VEVENT
BEGIN:VEVENT
DTSTART;TZID=America/New_York:20230408T080000
DTEND;TZID=America/New_York:20230408T130000
DTSTAMP:20260424T012828
CREATED:20230318T194426Z
LAST-MODIFIED:20230318T194426Z
UID:10000210-1680940800-1680958800@srfaustin.org
SUMMARY:Saturday Long Meditation
DESCRIPTION:Reader: Gene \nPlayer: Gene
URL:https://srfaustin.org/event/saturday-long-meditation-11/
LOCATION:Austin Meditation Group\, 1820 Garden Street\, Austin\, TX\, 78702\, United States
END:VEVENT
BEGIN:VEVENT
DTSTART;TZID=America/New_York:20230407T193000
DTEND;TZID=America/New_York:20230407T203000
DTSTAMP:20260424T012828
CREATED:20230318T194250Z
LAST-MODIFIED:20230318T194250Z
UID:10000209-1680895800-1680899400@srfaustin.org
SUMMARY:Good Friday Commemorative Meditation
DESCRIPTION:Reader: Shakti \nPlayer: Kirtan Group \nUsher: Mark R.
URL:https://srfaustin.org/event/good-friday-commemorative-meditation/
LOCATION:Austin Meditation Group\, 1820 Garden Street\, Austin\, TX\, 78702\, United States
END:VEVENT
BEGIN:VEVENT
DTSTART;TZID=America/New_York:20230406T080000
DTEND;TZID=America/New_York:20230406T170000
DTSTAMP:20260424T012828
CREATED:20230318T193749Z
LAST-MODIFIED:20230318T193749Z
UID:10000208-1680768000-1680800400@srfaustin.org
SUMMARY:Thursday Meditation | CANCELLED |
DESCRIPTION:Meditation CANCELLED
URL:https://srfaustin.org/event/thursday-meditation-cancelled/
LOCATION:Austin Meditation Group\, 1820 Garden Street\, Austin\, TX\, 78702\, United States
END:VEVENT
BEGIN:VEVENT
DTSTART;TZID=America/New_York:20230402T121500
DTEND;TZID=America/New_York:20230402T131500
DTSTAMP:20260424T012828
CREATED:20230318T201545Z
LAST-MODIFIED:20230318T201545Z
UID:10000225-1680437700-1680441300@srfaustin.org
SUMMARY:General Meeting
DESCRIPTION:
URL:https://srfaustin.org/event/general-meeting/
LOCATION:Austin Meditation Group\, 1820 Garden Street\, Austin\, TX\, 78702\, United States
END:VEVENT
BEGIN:VEVENT
DTSTART;TZID=America/New_York:20230402T110000
DTEND;TZID=America/New_York:20230402T120000
DTSTAMP:20260424T012828
CREATED:20230318T193635Z
LAST-MODIFIED:20230318T193635Z
UID:10000207-1680433200-1680436800@srfaustin.org
SUMMARY:Sunday Reading Service
DESCRIPTION:Vol. III\, #15: Life Energy: The Power that Heals \nReader 1: Kevin \nReader 2: Brandon \nPlayer: Mark G. \nUsher: Lynne \nGreeter: George
URL:https://srfaustin.org/event/sunday-reading-service-11/
LOCATION:Austin Meditation Group\, 1820 Garden Street\, Austin\, TX\, 78702\, United States
END:VEVENT
BEGIN:VEVENT
DTSTART;TZID=America/New_York:20230402T100000
DTEND;TZID=America/New_York:20230402T104500
DTSTAMP:20260424T012828
CREATED:20230318T193406Z
LAST-MODIFIED:20230318T193406Z
UID:10000206-1680429600-1680432300@srfaustin.org
SUMMARY:Sunday Meditation Service
DESCRIPTION:Reader: Kevin \nPlayer: Mark G. \nUsher: Lynne \nGreeter: George
URL:https://srfaustin.org/event/sunday-meditation-service-13/
LOCATION:Austin Meditation Group\, 1820 Garden Street\, Austin\, TX\, 78702\, United States
END:VEVENT
BEGIN:VEVENT
DTSTART;TZID=America/New_York:20230401T080000
DTEND;TZID=America/New_York:20230401T130000
DTSTAMP:20260424T012828
CREATED:20230318T193127Z
LAST-MODIFIED:20230318T193127Z
UID:10000205-1680336000-1680354000@srfaustin.org
SUMMARY:Saturday Long Meditation
DESCRIPTION:Reader: Vaibhav \nPlayer: Vaibhav
URL:https://srfaustin.org/event/saturday-long-meditation-10/
LOCATION:Austin Meditation Group\, 1820 Garden Street\, Austin\, TX\, 78702\, United States
END:VEVENT
BEGIN:VEVENT
DTSTART;TZID=America/New_York:20230330T190000
DTEND;TZID=America/New_York:20230330T210000
DTSTAMP:20260424T012828
CREATED:20230212T185233Z
LAST-MODIFIED:20230212T185233Z
UID:10000195-1680202800-1680210000@srfaustin.org
SUMMARY:Thursday Meditation
DESCRIPTION:Reader: Morgan \nPlayer: Morgan \nUsher: Mark
URL:https://srfaustin.org/event/thursday-meditation-8/
LOCATION:Austin Meditation Group\, 1820 Garden Street\, Austin\, TX\, 78702\, United States
END:VEVENT
BEGIN:VEVENT
DTSTART;TZID=America/New_York:20230326T133000
DTEND;TZID=America/New_York:20230326T150000
DTSTAMP:20260424T012828
CREATED:20230212T185014Z
LAST-MODIFIED:20230212T204901Z
UID:10000142-1679837400-1679842800@srfaustin.org
SUMMARY:DVD showing
DESCRIPTION:DVD Glimpses of a Life Divine \nUsher: Vaibhav \nGreeter: Kevin
URL:https://srfaustin.org/event/dvd-showing/
LOCATION:Austin Meditation Group\, 1820 Garden Street\, Austin\, TX\, 78702\, United States
END:VEVENT
BEGIN:VEVENT
DTSTART;TZID=America/New_York:20230326T121500
DTEND;TZID=America/New_York:20230326T133000
DTSTAMP:20260424T012828
CREATED:20230212T193407Z
LAST-MODIFIED:20230212T193407Z
UID:10000201-1679832900-1679837400@srfaustin.org
SUMMARY:Potluck Social
DESCRIPTION:Join us for fun and fellowship at our monthly potluck social. \nPlease bring a vegetarian dish\, serving utensils and your own silverware. \nThank you for helping us in this small gesture of environmental responsibility. \nHost: Daryl
URL:https://srfaustin.org/event/potluck-social-2/
LOCATION:Austin Meditation Group\, 1820 Garden Street\, Austin\, TX\, 78702\, United States
END:VEVENT
BEGIN:VEVENT
DTSTART;TZID=America/New_York:20230326T110000
DTEND;TZID=America/New_York:20230326T120000
DTSTAMP:20260424T012828
CREATED:20230212T184752Z
LAST-MODIFIED:20230212T184752Z
UID:10000140-1679828400-1679832000@srfaustin.org
SUMMARY:Reading Service by Brother Padmananda
DESCRIPTION:Usher: Vaibhav \nGreeter: Gene
URL:https://srfaustin.org/event/reading-service-by-brother-padmananda/
LOCATION:Austin Meditation Group\, 1820 Garden Street\, Austin\, TX\, 78702\, United States
END:VEVENT
BEGIN:VEVENT
DTSTART;TZID=America/New_York:20230326T093000
DTEND;TZID=America/New_York:20230326T104500
DTSTAMP:20260424T012828
CREATED:20230212T184431Z
LAST-MODIFIED:20230212T184431Z
UID:10000138-1679823000-1679827500@srfaustin.org
SUMMARY:Meditation Service with SRF monks
DESCRIPTION:Group EEs and Meditation Service with SRF monks \nUsher: Vaibhav \nGreeter: Gene
URL:https://srfaustin.org/event/meditation-service-with-srf-monks/
LOCATION:Austin Meditation Group\, 1820 Garden Street\, Austin\, TX\, 78702\, United States
END:VEVENT
BEGIN:VEVENT
DTSTART;TZID=America/New_York:20230325T100000
DTEND;TZID=America/New_York:20230325T151500
DTSTAMP:20260424T012828
CREATED:20230212T184103Z
LAST-MODIFIED:20230212T204147Z
UID:10000136-1679738400-1679757300@srfaustin.org
SUMMARY:Saturday Workshop and Video Showing
DESCRIPTION:| 10:00 am – 12:00 pm | Workshop / part 1 / \n| 12:00 pm – 01:00 pm | Brown bag Lunch (bring your own) \n| 01:00 pm – 02:00 pm | Workshop / part 2 / \n| 02:00 pm – 02:15 pm | break \n| 02:15 pm – 03:15 pm | DVD Sri Daya Mata Satsanga SRF Aims and Ideals \n  \nUsher: Gene \nGreeter: Kevin
URL:https://srfaustin.org/event/saturday-workshop-and-video-showing/
LOCATION:Austin Meditation Group\, 1820 Garden Street\, Austin\, TX\, 78702\, United States
END:VEVENT
BEGIN:VEVENT
DTSTART;TZID=America/New_York:20230324T180000
DTEND;TZID=America/New_York:20230324T203000
DTSTAMP:20260424T012828
CREATED:20230212T203557Z
LAST-MODIFIED:20230212T203557Z
UID:10000204-1679680800-1679689800@srfaustin.org
SUMMARY:Monks Dinner
DESCRIPTION:Monks Dinner with old and new Mg. Council
URL:https://srfaustin.org/event/monks-dinner/
LOCATION:TX
END:VEVENT
BEGIN:VEVENT
DTSTART;TZID=America/New_York:20230324T100000
DTEND;TZID=America/New_York:20230324T150000
DTSTAMP:20260424T012828
CREATED:20230212T202542Z
LAST-MODIFIED:20230212T202542Z
UID:10000203-1679652000-1679670000@srfaustin.org
SUMMARY:Outing and Lunch with Monks
DESCRIPTION:Nice weather: \nLady Bird Johnson Wildflower Center at 4801 La Crosse Ave. 78739 \nLunch at Wildflower Center cafe or bring your own \nInclement weather: \nBlanton Museum at 200 E. MLK Blvd 78712 \n\nParking / Brazos Garage 210 E. MLK Blvd. 78712 /\nLunch / Casa De Luz – 1701 Toomey Rd 78704 /
URL:https://srfaustin.org/event/outing-and-lunch-with-monks/
LOCATION:Lady Bird Johnson Wildflower Center\, 4801 La Crosse Ave\, Austin\, TX\, 78739\, United States
END:VEVENT
BEGIN:VEVENT
DTSTART;TZID=America/New_York:20230323T200000
DTEND;TZID=America/New_York:20230323T210000
DTSTAMP:20260424T012828
CREATED:20230212T201853Z
LAST-MODIFIED:20230212T201853Z
UID:10000202-1679601600-1679605200@srfaustin.org
SUMMARY:Social with light refreshments
DESCRIPTION:Social with SRF Monks
URL:https://srfaustin.org/event/social-with-light-refreshments/
LOCATION:Austin Meditation Group\, 1820 Garden Street\, Austin\, TX\, 78702\, United States
END:VEVENT
BEGIN:VEVENT
DTSTART;TZID=America/New_York:20230323T190000
DTEND;TZID=America/New_York:20230323T200000
DTSTAMP:20260424T012828
CREATED:20230212T183843Z
LAST-MODIFIED:20230212T183843Z
UID:10000134-1679598000-1679601600@srfaustin.org
SUMMARY:Satsanga with SRF monks
DESCRIPTION:Usher: Shakti \nGreeter: Morgan
URL:https://srfaustin.org/event/satsanga-with-srf-monks/
LOCATION:Austin Meditation Group\, 1820 Garden Street\, Austin\, TX\, 78702\, United States
END:VEVENT
BEGIN:VEVENT
DTSTART;TZID=America/New_York:20230323T180000
DTEND;TZID=America/New_York:20230323T184500
DTSTAMP:20260424T012828
CREATED:20230212T183553Z
LAST-MODIFIED:20230212T183553Z
UID:10000132-1679594400-1679597100@srfaustin.org
SUMMARY:Thursday Meditation with SRF monks
DESCRIPTION:Usher: Shakti \nGreeter: Morgan
URL:https://srfaustin.org/event/thursday-meditation-with-srf-monks/
LOCATION:Austin Meditation Group\, 1820 Garden Street\, Austin\, TX\, 78702\, United States
END:VEVENT
BEGIN:VEVENT
DTSTART;TZID=America/New_York:20230319T121500
DTEND;TZID=America/New_York:20230319T141500
DTSTAMP:20260424T012828
CREATED:20230212T193016Z
LAST-MODIFIED:20230212T193016Z
UID:10000200-1679228100-1679235300@srfaustin.org
SUMMARY:Juice Social
DESCRIPTION:Weather permitting\, we will have a juice social in our parking lot following the Readings service. \nPlease bring your own silverware\, and an optional dessert if you would like\, but it is certainly not necessary. \n\n\n\n\nhosts: Gaby and Plumeria
URL:https://srfaustin.org/event/juice-social-03-19-2023/
LOCATION:Austin Meditation Group\, 1820 Garden Street\, Austin\, TX\, 78702\, United States
END:VEVENT
BEGIN:VEVENT
DTSTART;TZID=America/New_York:20230319T110000
DTEND;TZID=America/New_York:20230319T120000
DTSTAMP:20260424T012828
CREATED:20230212T182834Z
LAST-MODIFIED:20230212T182834Z
UID:10000130-1679223600-1679227200@srfaustin.org
SUMMARY:Sunday Reading Service
DESCRIPTION:Vol. III\, #12: How to get Along With Others \nReader 1: Shantaram \nReader 2: Sally \nPlayer: Mark \nUsher: Lynne \nGreeter: Ron
URL:https://srfaustin.org/event/sunday-reading-service-10/
LOCATION:Austin Meditation Group\, 1820 Garden Street\, Austin\, TX\, 78702\, United States
END:VEVENT
BEGIN:VEVENT
DTSTART;TZID=America/New_York:20230319T100000
DTEND;TZID=America/New_York:20230319T104500
DTSTAMP:20260424T012828
CREATED:20230212T182610Z
LAST-MODIFIED:20230212T182610Z
UID:10000128-1679220000-1679222700@srfaustin.org
SUMMARY:Sunday Meditation Service
DESCRIPTION:Reader: Shantaram \nPlayer: Mark \nUsher: Lynne \nGreeter: Ron
URL:https://srfaustin.org/event/sunday-meditation-service-12/
LOCATION:Austin Meditation Group\, 1820 Garden Street\, Austin\, TX\, 78702\, United States
END:VEVENT
END:VCALENDAR