BEGIN:VCALENDAR
VERSION:2.0
PRODID:-//Austin Meditation Group of Self-Realization Fellowship - ECPv6.15.15//NONSGML v1.0//EN
CALSCALE:GREGORIAN
METHOD:PUBLISH
X-WR-CALNAME:Austin Meditation Group of Self-Realization Fellowship
X-ORIGINAL-URL:https://srfaustin.org
X-WR-CALDESC:Events for Austin Meditation Group of Self-Realization Fellowship
REFRESH-INTERVAL;VALUE=DURATION:PT1H
X-Robots-Tag:noindex
X-PUBLISHED-TTL:PT1H
BEGIN:VTIMEZONE
TZID:America/New_York
BEGIN:DAYLIGHT
TZOFFSETFROM:-0500
TZOFFSETTO:-0400
TZNAME:EDT
DTSTART:20220313T070000
END:DAYLIGHT
BEGIN:STANDARD
TZOFFSETFROM:-0400
TZOFFSETTO:-0500
TZNAME:EST
DTSTART:20221106T060000
END:STANDARD
BEGIN:DAYLIGHT
TZOFFSETFROM:-0500
TZOFFSETTO:-0400
TZNAME:EDT
DTSTART:20230312T070000
END:DAYLIGHT
BEGIN:STANDARD
TZOFFSETFROM:-0400
TZOFFSETTO:-0500
TZNAME:EST
DTSTART:20231105T060000
END:STANDARD
BEGIN:DAYLIGHT
TZOFFSETFROM:-0500
TZOFFSETTO:-0400
TZNAME:EDT
DTSTART:20240310T070000
END:DAYLIGHT
BEGIN:STANDARD
TZOFFSETFROM:-0400
TZOFFSETTO:-0500
TZNAME:EST
DTSTART:20241103T060000
END:STANDARD
END:VTIMEZONE
BEGIN:VEVENT
DTSTART;TZID=America/New_York:20230319T110000
DTEND;TZID=America/New_York:20230319T120000
DTSTAMP:20260425T155154
CREATED:20230212T182834Z
LAST-MODIFIED:20230212T182834Z
UID:10000130-1679223600-1679227200@srfaustin.org
SUMMARY:Sunday Reading Service
DESCRIPTION:Vol. III\, #12: How to get Along With Others \nReader 1: Shantaram \nReader 2: Sally \nPlayer: Mark \nUsher: Lynne \nGreeter: Ron
URL:https://srfaustin.org/event/sunday-reading-service-10/
LOCATION:Austin Meditation Group\, 1820 Garden Street\, Austin\, TX\, 78702\, United States
END:VEVENT
BEGIN:VEVENT
DTSTART;TZID=America/New_York:20230319T100000
DTEND;TZID=America/New_York:20230319T104500
DTSTAMP:20260425T155154
CREATED:20230212T182610Z
LAST-MODIFIED:20230212T182610Z
UID:10000128-1679220000-1679222700@srfaustin.org
SUMMARY:Sunday Meditation Service
DESCRIPTION:Reader: Shantaram \nPlayer: Mark \nUsher: Lynne \nGreeter: Ron
URL:https://srfaustin.org/event/sunday-meditation-service-12/
LOCATION:Austin Meditation Group\, 1820 Garden Street\, Austin\, TX\, 78702\, United States
END:VEVENT
BEGIN:VEVENT
DTSTART;TZID=America/New_York:20230318T080000
DTEND;TZID=America/New_York:20230318T130000
DTSTAMP:20260425T155154
CREATED:20230212T182348Z
LAST-MODIFIED:20230212T182348Z
UID:10000126-1679126400-1679144400@srfaustin.org
SUMMARY:Saturday Long Meditation
DESCRIPTION:Reader 1: Vaibhav \nReader 2: Shantaram \nPlayer: Same
URL:https://srfaustin.org/event/saturday-long-meditation-9/
LOCATION:Austin Meditation Group\, 1820 Garden Street\, Austin\, TX\, 78702\, United States
END:VEVENT
BEGIN:VEVENT
DTSTART;TZID=America/New_York:20230316T190000
DTEND;TZID=America/New_York:20230316T210000
DTSTAMP:20260425T155154
CREATED:20230212T182122Z
LAST-MODIFIED:20230212T182122Z
UID:10000125-1678993200-1679000400@srfaustin.org
SUMMARY:Thursday Meditation
DESCRIPTION:Reader: Kevin \nPlayer: Kevin \nUsher: Thaddeus
URL:https://srfaustin.org/event/thursday-meditation-7/
LOCATION:Austin Meditation Group\, 1820 Garden Street\, Austin\, TX\, 78702\, United States
END:VEVENT
BEGIN:VEVENT
DTSTART;TZID=America/New_York:20230312T121500
DTEND;TZID=America/New_York:20230312T131500
DTSTAMP:20260425T155154
CREATED:20230212T190709Z
LAST-MODIFIED:20230212T190837Z
UID:10000199-1678623300-1678626900@srfaustin.org
SUMMARY:Mahasamadhi Commemoration
DESCRIPTION:Swami Sri Yukteswar Mahasamadhi Commemoration \nSri Yukteswar’s commemorative service will be held following the Readings service\, and training on how to take down commemorative preparations will follow the Commemorative service. \nReader: Madhavi \nPlayer: Kirtan Group \nUsher: Morgan \nGreeter: Seth
URL:https://srfaustin.org/event/mahasamadhi-commemoration-2/
LOCATION:Austin Meditation Group\, 1820 Garden Street\, Austin\, TX\, 78702\, United States
END:VEVENT
BEGIN:VEVENT
DTSTART;TZID=America/New_York:20230312T110000
DTEND;TZID=America/New_York:20230312T120000
DTSTAMP:20260425T155154
CREATED:20230212T181859Z
LAST-MODIFIED:20230212T181859Z
UID:10000194-1678618800-1678622400@srfaustin.org
SUMMARY:Sunday Reading Service
DESCRIPTION:Vol. III\, #11: Seek God Through Kriya Yoga \nReader 1: Greg \nReader 2: Chris \nPlayer: Mike \nUsher: Daryl \nGreeter: Sally
URL:https://srfaustin.org/event/sunday-reading-service-9/
LOCATION:Austin Meditation Group\, 1820 Garden Street\, Austin\, TX\, 78702\, United States
END:VEVENT
BEGIN:VEVENT
DTSTART;TZID=America/New_York:20230312T100000
DTEND;TZID=America/New_York:20230312T104500
DTSTAMP:20260425T155154
CREATED:20230212T181616Z
LAST-MODIFIED:20230212T181616Z
UID:10000193-1678615200-1678617900@srfaustin.org
SUMMARY:Sunday Meditation Service
DESCRIPTION:Reader: Greg \nPlayer: Mike \nUsher: Daryl \nGreeter: Sally
URL:https://srfaustin.org/event/sunday-meditation-service-11/
LOCATION:Austin Meditation Group\, 1820 Garden Street\, Austin\, TX\, 78702\, United States
END:VEVENT
BEGIN:VEVENT
DTSTART;TZID=America/New_York:20230311T080000
DTEND;TZID=America/New_York:20230311T130000
DTSTAMP:20260425T155154
CREATED:20230212T181328Z
LAST-MODIFIED:20230212T181328Z
UID:10000185-1678521600-1678539600@srfaustin.org
SUMMARY:Saturday Long Meditation
DESCRIPTION:Reader: Lynne \nPlayer: Lynne
URL:https://srfaustin.org/event/saturday-long-meditation-8/
LOCATION:Austin Meditation Group\, 1820 Garden Street\, Austin\, TX\, 78702\, United States
END:VEVENT
BEGIN:VEVENT
DTSTART;TZID=America/New_York:20230309T063000
DTEND;TZID=America/New_York:20230309T210000
DTSTAMP:20260425T155154
CREATED:20230212T181002Z
LAST-MODIFIED:20230212T181138Z
UID:10000187-1678343400-1678395600@srfaustin.org
SUMMARY:Thursday Meditation | CANCELLED |
DESCRIPTION:Meditation CANCELLED
URL:https://srfaustin.org/event/thursday-meditation-6/
LOCATION:TX
END:VEVENT
BEGIN:VEVENT
DTSTART;TZID=America/New_York:20230307T193000
DTEND;TZID=America/New_York:20230307T203000
DTSTAMP:20260425T155154
CREATED:20230212T190215Z
LAST-MODIFIED:20230212T190215Z
UID:10000197-1678217400-1678221000@srfaustin.org
SUMMARY:Mahasamadhi Commemoration
DESCRIPTION:Paramahansa Yogananda Mahasamadhi Commemoration \nReader: Ron \nPlayer: Kirtan Group \nUsher: Mark \nGreeter: Kevin
URL:https://srfaustin.org/event/mahasamadhi-commemoration/
LOCATION:Austin Meditation Group\, 1820 Garden Street\, Austin\, TX\, 78702\, United States
END:VEVENT
BEGIN:VEVENT
DTSTART;TZID=America/New_York:20230307T183000
DTEND;TZID=America/New_York:20230307T192000
DTSTAMP:20260425T155154
CREATED:20230212T190414Z
LAST-MODIFIED:20230212T190414Z
UID:10000198-1678213800-1678216800@srfaustin.org
SUMMARY:Open Meditation
DESCRIPTION:Usher: Mark \nGreeter: Kevin
URL:https://srfaustin.org/event/open-meditation-2/
LOCATION:Austin Meditation Group\, 1820 Garden Street\, Austin\, TX\, 78702\, United States
END:VEVENT
BEGIN:VEVENT
DTSTART;TZID=America/New_York:20230305T123000
DTEND;TZID=America/New_York:20230305T143000
DTSTAMP:20260425T155154
CREATED:20230212T185712Z
LAST-MODIFIED:20230212T185712Z
UID:10000196-1678019400-1678026600@srfaustin.org
SUMMARY:Training for the Commemorative committee members
DESCRIPTION:Following the Readings service\, we will hold a training for the Commemorative committee members as we set up for Master’s commemorative service to be held on March 7th.
URL:https://srfaustin.org/event/training-for-the-commemorative-committee-members/
LOCATION:Austin Meditation Group\, 1820 Garden Street\, Austin\, TX\, 78702\, United States
END:VEVENT
BEGIN:VEVENT
DTSTART;TZID=America/New_York:20230305T110000
DTEND;TZID=America/New_York:20230305T120000
DTSTAMP:20260425T155154
CREATED:20230212T175935Z
LAST-MODIFIED:20230212T175935Z
UID:10000189-1678014000-1678017600@srfaustin.org
SUMMARY:Sunday Reading Service
DESCRIPTION:Vol. III\, #10: Follow the Path of the Great Ones \nReader 1: Lynne \nReader 2: Brandon \nPlayer: Rushil \nUsher: George \nGreeter: Shakti
URL:https://srfaustin.org/event/sunday-reading-service-8/
LOCATION:Austin Meditation Group\, 1820 Garden Street\, Austin\, TX\, 78702\, United States
END:VEVENT
BEGIN:VEVENT
DTSTART;TZID=America/New_York:20230305T100000
DTEND;TZID=America/New_York:20230305T104500
DTSTAMP:20260425T155154
CREATED:20230212T175554Z
LAST-MODIFIED:20230212T175554Z
UID:10000191-1678010400-1678013100@srfaustin.org
SUMMARY:Sunday Meditation Service
DESCRIPTION:Reader: Lynne \nPlayer: Rushil \nUsher: George \nGreeter: Shakti
URL:https://srfaustin.org/event/sunday-meditation-service-10/
LOCATION:Austin Meditation Group\, 1820 Garden Street\, Austin\, TX\, 78702\, United States
END:VEVENT
BEGIN:VEVENT
DTSTART;TZID=America/New_York:20230304T080000
DTEND;TZID=America/New_York:20230304T130000
DTSTAMP:20260425T155154
CREATED:20230212T175253Z
LAST-MODIFIED:20230212T175253Z
UID:10000192-1677916800-1677934800@srfaustin.org
SUMMARY:Saturday Long Meditation
DESCRIPTION:Reader: Gene \nPlayer: Gene
URL:https://srfaustin.org/event/saturday-long-meditation-4/
LOCATION:Austin Meditation Group\, 1820 Garden Street\, Austin\, TX\, 78702\, United States
END:VEVENT
BEGIN:VEVENT
DTSTART;TZID=America/New_York:20230302T183000
DTEND;TZID=America/New_York:20230302T210000
DTSTAMP:20260425T155154
CREATED:20230212T174519Z
LAST-MODIFIED:20230212T181041Z
UID:10000190-1677781800-1677790800@srfaustin.org
SUMMARY:Thursday Meditation
DESCRIPTION:Reader: Morgan \nPlayer: Marco \nUsher: Gaby
URL:https://srfaustin.org/event/thursday-meditation-5/
LOCATION:Austin Meditation Group\, 1820 Garden Street\, Austin\, TX\, 78702\, United States
END:VEVENT
BEGIN:VEVENT
DTSTART;TZID=America/New_York:20230226T121500
DTEND;TZID=America/New_York:20230226T141500
DTSTAMP:20260425T155154
CREATED:20230111T060604Z
LAST-MODIFIED:20230212T191459Z
UID:10000188-1677413700-1677420900@srfaustin.org
SUMMARY:Volunteer Appreciation Lunch
DESCRIPTION:Managing Council will provide an Indian luncheon buffet as a special token of our appreciation to all our wonderful volunteers. \nPlease bring your own silverware\, and an optional dessert if you would like\, but it is certainly not necessary.
URL:https://srfaustin.org/event/potluck-social-02-26-2023/
LOCATION:Austin Meditation Group\, 1820 Garden Street\, Austin\, TX\, 78702\, United States
END:VEVENT
BEGIN:VEVENT
DTSTART;TZID=America/New_York:20230226T110000
DTEND;TZID=America/New_York:20230226T120000
DTSTAMP:20260425T155154
CREATED:20230111T060348Z
LAST-MODIFIED:20230111T060348Z
UID:10000186-1677409200-1677412800@srfaustin.org
SUMMARY:Sunday Reading Service
DESCRIPTION:Vol. III\, #9: Secrets of Success \nReader 1: Ron \nReader 2: Chris \nPlayer: Karen \nUsher: Jenny \nGreeter: Seth
URL:https://srfaustin.org/event/sunday-reading-service-02-26-2023/
LOCATION:Austin Meditation Group\, 1820 Garden Street\, Austin\, TX\, 78702\, United States
END:VEVENT
BEGIN:VEVENT
DTSTART;TZID=America/New_York:20230226T100000
DTEND;TZID=America/New_York:20230226T104500
DTSTAMP:20260425T155154
CREATED:20230111T060139Z
LAST-MODIFIED:20230111T060139Z
UID:10000124-1677405600-1677408300@srfaustin.org
SUMMARY:Sunday Meditation Service
DESCRIPTION:Reader: Ron \nPlayer: Karen \nUsher: Jenny \nGreeter: Seth
URL:https://srfaustin.org/event/sunday-meditation-service-02-26-2023/
LOCATION:Austin Meditation Group\, 1820 Garden Street\, Austin\, TX\, 78702\, United States
END:VEVENT
BEGIN:VEVENT
DTSTART;TZID=America/New_York:20230225T080000
DTEND;TZID=America/New_York:20230225T130000
DTSTAMP:20260425T155154
CREATED:20230111T055940Z
LAST-MODIFIED:20230111T055940Z
UID:10000123-1677312000-1677330000@srfaustin.org
SUMMARY:Saturday Long Meditation
DESCRIPTION:Reader: Vaibhav \nPlayer: Vaibhav
URL:https://srfaustin.org/event/saturday-long-meditation-02-25-2023/
LOCATION:Austin Meditation Group\, 1820 Garden Street\, Austin\, TX\, 78702\, United States
END:VEVENT
BEGIN:VEVENT
DTSTART;TZID=America/New_York:20230223T190000
DTEND;TZID=America/New_York:20230223T210000
DTSTAMP:20260425T155154
CREATED:20230111T055804Z
LAST-MODIFIED:20230111T055804Z
UID:10000122-1677178800-1677186000@srfaustin.org
SUMMARY:Thursday Meditation
DESCRIPTION:Reader: Kevin \nPlayer: Kevin \nUsher: Mark R.
URL:https://srfaustin.org/event/thursday-meditation-02-23-2023/
LOCATION:Austin Meditation Group\, 1820 Garden Street\, Austin\, TX\, 78702\, United States
END:VEVENT
BEGIN:VEVENT
DTSTART;TZID=America/New_York:20230219T121500
DTEND;TZID=America/New_York:20230219T141500
DTSTAMP:20260425T155154
CREATED:20230111T055525Z
LAST-MODIFIED:20230212T191323Z
UID:10000121-1676808900-1676816100@srfaustin.org
SUMMARY:Juice Social
DESCRIPTION:Weather permitting\, we will have a juice social in our parking lot following the Readings service. \nPlease bring your own silverware\, and an optional dessert if you would like\, but it is certainly not necessary. \n\n\n\n\n+ Austin Marathon (possible traffic delays) \nhosts: Chris and Plumeria
URL:https://srfaustin.org/event/juice-social-02-19-2023/
LOCATION:Austin Meditation Group\, 1820 Garden Street\, Austin\, TX\, 78702\, United States
END:VEVENT
BEGIN:VEVENT
DTSTART;TZID=America/New_York:20230219T110000
DTEND;TZID=America/New_York:20230219T120000
DTSTAMP:20260425T155154
CREATED:20230111T055202Z
LAST-MODIFIED:20230111T055202Z
UID:10000120-1676804400-1676808000@srfaustin.org
SUMMARY:Sunday Reading Service
DESCRIPTION:Vol. III\, #8: The Dream Nature of the World \nReader 1: Lynne \nReader 2: Sally \nPlayer: Mark G. \nUsher: Shakti \nGreeter: Daryl
URL:https://srfaustin.org/event/sunday-reading-service-02-19-2023/
LOCATION:Austin Meditation Group\, 1820 Garden Street\, Austin\, TX\, 78702\, United States
END:VEVENT
BEGIN:VEVENT
DTSTART;TZID=America/New_York:20230219T100000
DTEND;TZID=America/New_York:20230219T104500
DTSTAMP:20260425T155154
CREATED:20230111T055013Z
LAST-MODIFIED:20230111T055013Z
UID:10000119-1676800800-1676803500@srfaustin.org
SUMMARY:Sunday Meditation Service
DESCRIPTION:Reader: Lynne \nPlayer: Mark G. \nUsher: Shakti \nGreeter: Daryl
URL:https://srfaustin.org/event/sunday-meditation-service-02-19-2023/
LOCATION:Austin Meditation Group\, 1820 Garden Street\, Austin\, TX\, 78702\, United States
END:VEVENT
BEGIN:VEVENT
DTSTART;TZID=America/New_York:20230218T080000
DTEND;TZID=America/New_York:20230218T130000
DTSTAMP:20260425T155154
CREATED:20230111T054817Z
LAST-MODIFIED:20230111T054817Z
UID:10000118-1676707200-1676725200@srfaustin.org
SUMMARY:Saturday Long Meditation
DESCRIPTION:Reader: Gene \nPlayer: Gene
URL:https://srfaustin.org/event/saturday-long-meditation-02-18-2023/
LOCATION:Austin Meditation Group\, 1820 Garden Street\, Austin\, TX\, 78702\, United States
END:VEVENT
BEGIN:VEVENT
DTSTART;TZID=America/New_York:20230216T190000
DTEND;TZID=America/New_York:20230216T210000
DTSTAMP:20260425T155154
CREATED:20230111T054601Z
LAST-MODIFIED:20230111T054601Z
UID:10000117-1676574000-1676581200@srfaustin.org
SUMMARY:Thursday Meditation
DESCRIPTION:Reader: Vaibhav \nPlayer: Vaibhav \nUsher: Thaddeus
URL:https://srfaustin.org/event/thursday-meditation-02-16-2023/
LOCATION:Austin Meditation Group\, 1820 Garden Street\, Austin\, TX\, 78702\, United States
END:VEVENT
BEGIN:VEVENT
DTSTART;TZID=America/New_York:20230212T110000
DTEND;TZID=America/New_York:20230212T120000
DTSTAMP:20260425T155154
CREATED:20230111T054152Z
LAST-MODIFIED:20230111T054152Z
UID:10000116-1676199600-1676203200@srfaustin.org
SUMMARY:Sunday Reading Service
DESCRIPTION:Vol. III\, #7: The Science of Affirmation \nReader 1: Sushma \nReader 2: Shakti \nPlayer: Vaibhav \nUsher: Lynne \nGreeter: George
URL:https://srfaustin.org/event/sunday-reading-service-02-12-2-23/
LOCATION:Austin Meditation Group\, 1820 Garden Street\, Austin\, TX\, 78702\, United States
END:VEVENT
BEGIN:VEVENT
DTSTART;TZID=America/New_York:20230212T100000
DTEND;TZID=America/New_York:20230212T104500
DTSTAMP:20260425T155154
CREATED:20230111T053904Z
LAST-MODIFIED:20230111T053904Z
UID:10000115-1676196000-1676198700@srfaustin.org
SUMMARY:Sunday Meditation Service
DESCRIPTION:Reader: Sushma \nPlayer: Vaibhav \nUsher: Lynne \nGreeter: George
URL:https://srfaustin.org/event/sunday-meditation-service-9/
LOCATION:Austin Meditation Group\, 1820 Garden Street\, Austin\, TX\, 78702\, United States
END:VEVENT
BEGIN:VEVENT
DTSTART;TZID=America/New_York:20230211T080000
DTEND;TZID=America/New_York:20230211T130000
DTSTAMP:20260425T155154
CREATED:20230111T053202Z
LAST-MODIFIED:20230111T053202Z
UID:10000183-1676102400-1676120400@srfaustin.org
SUMMARY:Saturday Long Meditation
DESCRIPTION:Reader 1: Mike \nReader 2: Karen \nPlayer: Same
URL:https://srfaustin.org/event/saturday-long-meditation-7/
LOCATION:Austin Meditation Group\, 1820 Garden Street\, Austin\, TX\, 78702\, United States
END:VEVENT
BEGIN:VEVENT
DTSTART;TZID=America/New_York:20230209T190000
DTEND;TZID=America/New_York:20230209T210000
DTSTAMP:20260425T155154
CREATED:20230111T052749Z
LAST-MODIFIED:20230111T052749Z
UID:10000182-1675969200-1675976400@srfaustin.org
SUMMARY:Thursday Meditation
DESCRIPTION:Reader: Kevin \nPlayer: Marco \nUsher: Mark R.
URL:https://srfaustin.org/event/thursday-meditation-02-09-2023/
LOCATION:Austin Meditation Group\, 1820 Garden Street\, Austin\, TX\, 78702\, United States
END:VEVENT
END:VCALENDAR